BEGIN:VCALENDAR
VERSION:2.0
PRODID:-//Cryovida - ECPv6.15.20//NONSGML v1.0//EN
CALSCALE:GREGORIAN
METHOD:PUBLISH
X-WR-CALNAME:Cryovida
X-ORIGINAL-URL:https://cryovidastemcells.com
X-WR-CALDESC:Eventos para Cryovida
REFRESH-INTERVAL;VALUE=DURATION:PT1H
X-Robots-Tag:noindex
X-PUBLISHED-TTL:PT1H
BEGIN:VTIMEZONE
TZID:America/Chicago
BEGIN:DAYLIGHT
TZOFFSETFROM:-0600
TZOFFSETTO:-0500
TZNAME:CDT
DTSTART:20240310T080000
END:DAYLIGHT
BEGIN:STANDARD
TZOFFSETFROM:-0500
TZOFFSETTO:-0600
TZNAME:CST
DTSTART:20241103T070000
END:STANDARD
BEGIN:DAYLIGHT
TZOFFSETFROM:-0600
TZOFFSETTO:-0500
TZNAME:CDT
DTSTART:20250309T080000
END:DAYLIGHT
BEGIN:STANDARD
TZOFFSETFROM:-0500
TZOFFSETTO:-0600
TZNAME:CST
DTSTART:20251102T070000
END:STANDARD
BEGIN:DAYLIGHT
TZOFFSETFROM:-0600
TZOFFSETTO:-0500
TZNAME:CDT
DTSTART:20260308T080000
END:DAYLIGHT
BEGIN:STANDARD
TZOFFSETFROM:-0500
TZOFFSETTO:-0600
TZNAME:CST
DTSTART:20261101T070000
END:STANDARD
END:VTIMEZONE
BEGIN:VEVENT
DTSTART;TZID=America/Chicago:20251024T000000
DTEND;TZID=America/Chicago:20251025T235959
DTSTAMP:20260421T045807
CREATED:20250919T194606Z
LAST-MODIFIED:20251008T212531Z
UID:4396-1761264000-1761436799@cryovidastemcells.com
SUMMARY:54º certificación médica en medicina regenerativa
DESCRIPTION:Certificación avalada por comité científico y académico\, enfocada en la aplicación clínica de células troncales mesenquimales. \n\n\n\nActualízate en los fundamentos\, protocolos y evidencia científica de la medicina regenerativa\, y adquiere herramientas prácticas para integrar terapias celulares en tu práctica médica.
URL:https://cryovidastemcells.com/evento/54o-certificacion-medica-en-medicina-regenerativa/
LOCATION:Monterrey\, Nuevo León\, Nuevo León\, Monterrey\, Mexico
ATTACH;FMTTYPE=image/png:https://cryovidastemcells.com/wp-content/uploads/2025/09/Captura-de-Pantalla-2025-09-19-a-las-15.52.08.png
END:VEVENT
END:VCALENDAR